BEGIN:VCALENDAR
VERSION:2.0
METHOD:PUBLISH
PRODID:-//Accessible Web Design//My Calendar//http://www.joedolson.com//v//EN';
BEGIN:VEVENT
UID:137-57
LOCATION:Kirche in 4780 Recht
SUMMARY:Frühlingserwachen
DTSTAMP:20220508T090000
ORGANIZER;CN=webmaster:MAILTO:info@aves-ostkantone.be
DTSTART:20220508T090000
DTEND:20220508T140000
CATEGORIES:Ornithologische Exkursion
URL;VALUE=URI:https://www.aves-ostkantone.be/cms/mc-events/fruehlingserwachen-2/?mc_id=137
DESCRIPTION:Der Wonnemonat Mai hat begonnen. Er trägt seinen Namen nicht von ungefähr, denn überall grünt und blüht es. Die Vogelwelt ist so lebendig und rege wie nie. Die Balzzeit erfährt ihren Höhepunkt und teilweise hat die Brutzeit schon begonnen. Diese besondere Zeit bietet durch die vielen Vogelkonzerte einen Hörgenuss der besonderen Art, sowie die Möglichkeit,&hellip;
END:VEVENT
END:VCALENDAR