BEGIN:VCALENDAR
VERSION:2.0
METHOD:PUBLISH
PRODID:-//Accessible Web Design//My Calendar//http://www.joedolson.com//v//EN';
BEGIN:VEVENT
UID:116-68
LOCATION:Parkplatz Firma Mersch, Nähe Autobahnausfaht 4780 St. Vith Süd
SUMMARY:Vögel in Feld und Flur
DTSTAMP:20220731T090000
ORGANIZER;CN=webmaster:MAILTO:info@aves-ostkantone.be
DTSTART:20220731T090000
DTEND:20220731T150000
CATEGORIES:Ornithologische Exkursion
URL;VALUE=URI:https://www.aves-ostkantone.be/cms/mc-events/voegel-in-feld-und-flur-2/?mc_id=116
DESCRIPTION:Auf einer ausgewählten Route um Galhausen und Neidingen wird dem interessierten Naturfreund die Welt der Feld- und Wiesenvögel nähergebracht.  An den Wiesenrändern, wo oftmals Hecken den nötigen Schutz bieten, finden die Vögel für Ihren Nachwuchs reichlich Nahrung. Neben typischen Feldvogelarten bieten die offenen Landschaften rund um Sankt Vith auch eine gute Gelegenheit, Greifvögel zu beobachten.&hellip;
END:VEVENT
END:VCALENDAR