BEGIN:VCALENDAR
VERSION:2.0
METHOD:PUBLISH
PRODID:-//Accessible Web Design//My Calendar//http://www.joedolson.com//v//EN';
BEGIN:VEVENT
UID:114-65
LOCATION:Johberg 76 in 4711 Walhorn (bei Tobias Raudonat)
SUMMARY:Dämmerungswanderung
DTSTAMP:20220624T203000
ORGANIZER;CN=webmaster:MAILTO:info@aves-ostkantone.be
DTSTART:20220624T203000
DTEND:20220624T230000
CATEGORIES:Naturkundliche Exkursion
URL;VALUE=URI:https://www.aves-ostkantone.be/cms/mc-events/daemmerungswanderung/?mc_id=114
DESCRIPTION:Eine Anmeldung ist Pflicht! „Und in der Dämmerung Hülle, so traulich und so hold“ Wenn die Sonne die letzten warmen Strahlen über das Land schickt und die Nacht langsam und allmählich den Platz des Tages einnimmt, machen wir uns auf den Weg in die Natur um diese besondere Stimmung in uns aufzunehmen. In dieser magischen&hellip;
END:VEVENT
END:VCALENDAR