BEGIN:VCALENDAR
VERSION:2.0
METHOD:PUBLISH
PRODID:-//Accessible Web Design//My Calendar//http://www.joedolson.com//v//EN';
BEGIN:VEVENT
UID:111-63
LOCATION:Parkplatz Nahtsief, Monschauer Straße, 4700 Eupen
SUMMARY:Tiere und Pflanzen im Brackvenn
DTSTAMP:20220529T090000
ORGANIZER;CN=webmaster:MAILTO:info@aves-ostkantone.be
DTSTART:20220529T090000
DTEND:20220529T130000
CATEGORIES:Ornithologisch-naturkundliche Exkursion
URL;VALUE=URI:https://www.aves-ostkantone.be/cms/mc-events/tiere-und-pflanzen-im-brackvenn-2/?mc_id=111
DESCRIPTION:In Zusammenarbeit mit dem NABU Aachen-Land Neben den besonderen Vogelarten wie etwa Zwergtaucher, Krickente, Wiesenpieper, Schwarzkehlchen und Orpheusspötter kann man bei gutem Wetter auch viele interessante Libellen und andere Insekten beobachten. Das Mitführen eines Fernglases ist unbedingt erforderlich. Die naturkundliche Exkursion findet statt am Sonntag, dem 29. Mai 2022 von 09:00 bis 13:00. Treffpunkt ist&hellip;
END:VEVENT
END:VCALENDAR