BEGIN:VCALENDAR
VERSION:2.0
METHOD:PUBLISH
PRODID:-//Accessible Web Design//My Calendar//http://www.joedolson.com//v//EN';
BEGIN:VEVENT
UID:110-58
LOCATION:Signal de Botrange (Turm) - Route de Botrange - 4950 Waimes
SUMMARY:Naturschutzgebiet "Hohes Venn"
DTSTAMP:20220526T110000
ORGANIZER;CN=webmaster:MAILTO:info@aves-ostkantone.be
DTSTART:20220526T110000
DTEND:20220526T143000
CATEGORIES:Naturkundliche Exkursion
URL;VALUE=URI:https://www.aves-ostkantone.be/cms/mc-events/naturschutzgebiet-hohes-venn/?mc_id=110
DESCRIPTION:Das Venn ist mit inzwischen 6000 ha das größte belgische Naturschutzgebiet. Wir befassen uns mit Themen rund ums Moor und genießen einen fantastischen Blick auf die weite Landschaft. Die naturkundliche Exkursion findet statt am Donnerstag (Christi Himmelfahrt) dem 26. Mai 2022 von 11:00 – 14:30 Uhr. Treffpunkt: Signal de Botrange (Turm) – Route de Botrange&hellip;
END:VEVENT
END:VCALENDAR