BEGIN:VCALENDAR
VERSION:2.0
METHOD:PUBLISH
PRODID:-//Accessible Web Design//My Calendar//http://www.joedolson.com//v//EN';
BEGIN:VEVENT
UID:106-56
LOCATION:Kirche in Neundorf, 4780 St. Vith
SUMMARY:Durch die Neundorfer Naturschutzgebiete
DTSTAMP:20220501T090000
ORGANIZER;CN=webmaster:MAILTO:info@aves-ostkantone.be
DTSTART:20220501T090000
DTEND:20220501T150000
CATEGORIES:Ornithologische Exkursion
URL;VALUE=URI:https://www.aves-ostkantone.be/cms/mc-events/durch-die-neundorfer-naturschutzgebiete/?mc_id=106
DESCRIPTION:Die Naturschutzgebiete um Neundorf und Crombach bieten einer Vielzahl von Pflanzen, Insekten und anderen Tieren, sowie vielen Vogelarten Heimat. Auf dieser Exkursion entführt sie Norbert Paquay, unter fachkundiger Leitung, in die Welt der heimgekehrten Zugvögel. Rotmilan, Gartenrotschwanz, Wiesen- und Baumpieper, Goldammer u.v.a. können hier beobachtet werden. Die Exkursion findet statt am Sonntag, dem 01.05.2022 von&hellip;
END:VEVENT
END:VCALENDAR