BEGIN:VCALENDAR
VERSION:2.0
METHOD:PUBLISH
PRODID:-//Accessible Web Design//My Calendar//http://www.joedolson.com//v//EN';
BEGIN:VEVENT
UID:105-55
LOCATION:Parkplatz am Casinoweiher in 4720 Kelmis
SUMMARY:Botanische Schätze im Hohnbachtal
DTSTAMP:20220424T140000
ORGANIZER;CN=webmaster:MAILTO:info@aves-ostkantone.be
DTSTART:20220424T140000
DTEND:20220424T173000
CATEGORIES:Botanische Exkursion
URL;VALUE=URI:https://www.aves-ostkantone.be/cms/mc-events/botanische-schaetze-im-hohnbachtal/?mc_id=105
DESCRIPTION:Das Tal des Hohnbaches verbindet, wie der benachbarte Casinoweiher, in einzigartiger Weise die Schönheit der Natur mit dem industriellen Erbe des Bergbaus. So ist dieses auf Schwermetallböden entstandene Naturschutzgebiet bekannt für seine Bestände an Orchideen, Bärlauch und seine außergewöhnliche Galmeiflora. Die botanische Exkursion findet statt am Sonntag, dem 24. April 2022 von 14:00 bis 17:30.&hellip;
END:VEVENT
END:VCALENDAR