BEGIN:VCALENDAR
VERSION:2.0
METHOD:PUBLISH
PRODID:-//Accessible Web Design//My Calendar//http://www.joedolson.com//v//EN';
BEGIN:VEVENT
UID:104-54
LOCATION:Kirche in 4770 Amel
SUMMARY:Die Vogelwelt des Frühjahres
DTSTAMP:20220424T090000
ORGANIZER;CN=webmaster:MAILTO:info@aves-ostkantone.be
DTSTART:20220424T090000
DTEND:20220424T150000
CATEGORIES:Ornithologische Exkursion
URL;VALUE=URI:https://www.aves-ostkantone.be/cms/mc-events/die-vogelwelt-des-fruehjahres/?mc_id=104
DESCRIPTION:Das Frühjahr ist bekanntlich die lebhafteste Zeit im Vogeljahr. Munter zwitschernde Männchen locken durch ihren Gesang die Weibchen an und es wird mit dem Nestbau begonnen. Wer gerne Vögel beobachtet, auf Spaziergängen ihren Stimmen lauscht und über das Naturschauspiel, welches uns die „Piepmätze“ jetzt im Frühjahr bieten, mehr erfahren möchte, sollte sich Sonntag, den 24.&hellip;
END:VEVENT
END:VCALENDAR