BEGIN:VCALENDAR
VERSION:2.0
METHOD:PUBLISH
PRODID:-//Accessible Web Design//My Calendar//http://www.joedolson.com//v//EN';
BEGIN:VEVENT
UID:99-47
LOCATION:Staumauer in 4750 Bütgenbach/Berg (Parkplatz)
SUMMARY:Rund um den Stausee
DTSTAMP:20220306T080000
ORGANIZER;CN=webmaster:MAILTO:info@aves-ostkantone.be
DTSTART:20220306T080000
DTEND:20220306T123000
CATEGORIES:Ornithologische Exkursion
URL;VALUE=URI:https://www.aves-ostkantone.be/cms/mc-events/rund-um-den-stausee/?mc_id=99
DESCRIPTION:AVES-Ostkantone lädt am Sonntag, dem 06. März 2022 zu einer ornithologischen Wanderung entlang des Stausees ein. Unser Animator Gerhard Reuter gibt einen Einblick in das Leben der Wasservögel und Wintergäste. Durch die Ufernähe bleibt das Profil des ca. 10 km langen Rundweges recht flach und ist daher familienfreundlich. Treffpunkt ist um 08:00 Uhr an der&hellip;
END:VEVENT
END:VCALENDAR