BEGIN:VCALENDAR
VERSION:2.0
METHOD:PUBLISH
PRODID:-//Accessible Web Design//My Calendar//http://www.joedolson.com//v//EN';
BEGIN:VEVENT
UID:98-46
LOCATION:Alter Bahnhof in 4790 Burg-Reuland
SUMMARY:Die ersten Frühlingsboten
DTSTAMP:20220227T100000
ORGANIZER;CN=webmaster:MAILTO:info@aves-ostkantone.be
DTSTART:20220227T100000
DTEND:20220227T160000
CATEGORIES:Ornithologische Exkursion
URL;VALUE=URI:https://www.aves-ostkantone.be/cms/mc-events/die-ersten-fruehlingsboten/?mc_id=98
DESCRIPTION:In der Natur finden wir bereits Anzeichen für das Ende der kalten Jahresszeit. So kehren die ersten Zugvögel von ihrer weiten Reise aus den Winterquartieren zurück. Durchwandert werden abwechslungsreiche Landschaftszüge, wie Waldungen, Bachtäler und Hügelkuppen rund um Burg Reuland und Auel. Für die sechsstündige Wanderung bitte ausreichend Verpflegung und ein Fernglas mitbringen. Die Exkursion findet&hellip;
END:VEVENT
END:VCALENDAR