BEGIN:VCALENDAR
VERSION:2.0
METHOD:PUBLISH
PRODID:-//Accessible Web Design//My Calendar//http://www.joedolson.com//v//EN';
BEGIN:VEVENT
UID:115-66
LOCATION:Parkplatz Thol in Dreiborn, D-53937 Schleiden
SUMMARY:Vögel und Schmetterlinge auf der Dreiborner Hochfläche
DTSTAMP:20220703T090000
ORGANIZER;CN=webmaster:MAILTO:info@aves-ostkantone.be
DTSTART:20220703T090000
DTEND:20220703T133000
CATEGORIES:Naturkundliche Exkursion
URL;VALUE=URI:https://www.aves-ostkantone.be/cms/mc-events/voegel-und-schmetterlinge-auf-der-dreiborner-hochflaeche/?mc_id=115
DESCRIPTION:Eine Anmeldung ist Pflicht! In Zusammenarbeit mit dem NABU-Aachen-Land Auf der Dreiborner Hochfläche findet man im Juni viele verschiedene Tagfalter und auch tagaktive Nachtfalter. Feldlerche und Wiesenpieper brüten noch in hoher Dichte. Auch Neuntöter, Bluthänfling, Goldammer und Schwarzkehlchen lassen sich gut beobachten. Die naturkundliche Exkursion findet statt am Sonntag, dem 03. Juli 2022 von 09:00&hellip;
END:VEVENT
END:VCALENDAR