BEGIN:VCALENDAR
VERSION:2.0
METHOD:PUBLISH
PRODID:-//Accessible Web Design//My Calendar//http://www.joedolson.com//v//EN';
BEGIN:VEVENT
UID:109-90
LOCATION:
SUMMARY:Senioren entdecken das Hohe Venn
DTSTAMP:20220523T140000
ORGANIZER;CN=webmaster:MAILTO:info@aves-ostkantone.be
DTSTART:20220523T140000
DTEND:20220523T160000
CATEGORIES:Naturkundliche Exkursion
URL;VALUE=URI:https://www.aves-ostkantone.be/cms/mc-events/senioren-entdecken-das-hohe-venn/?mc_id=109
DESCRIPTION:Weshalb ist hier Torf gewachsen? Welche Beeren kommen hier vor? Auf diese und viele andere Fragen werden wir nach Antworten suchen – auf einer ca. 3 Km langen Wanderung auf Stegen und befestigten Wegen. Diese Exkursion findet statt am Montag dem 23. Mai 2022 von 14:00 bis 16:00 Uhr. Treffpunkt ist an der Kreuzung in&hellip;
END:VEVENT
END:VCALENDAR