BEGIN:VCALENDAR
VERSION:2.0
METHOD:PUBLISH
PRODID:-//Accessible Web Design//My Calendar//http://www.joedolson.com//v//EN';
BEGIN:VEVENT
UID:108-59
LOCATION:Waldparkplatz an der L128 zwischen D-52152 Rurberg und Einruhr
SUMMARY:Exkursion zum Obersee zwischen Ruhrberg und Einruhr
DTSTAMP:20220515T090000
ORGANIZER;CN=webmaster:MAILTO:info@aves-ostkantone.be
DTSTART:20220515T090000
DTEND:20220515T130000
CATEGORIES:Ornithologische Exkursion
URL;VALUE=URI:https://www.aves-ostkantone.be/cms/mc-events/exkursion-zum-obersee-zwischen-ruhrberg-und-einruhr/?mc_id=108
DESCRIPTION:Der Obersee ist ein Teil der Rurtalsperre. Von dieser wird er durch den Paulushofdamm bei Rurberg abgetrennt. In den Hangwäldern des Obersees leben fünf verschiedene Spechtarten. In der Umgebung brüten auch mehrere Greifvogelarten, wie etwa Rotmilan, Schwarzmilan, Sperber und Wespenbussard. An einer sonnigen Felswand bei Rurberg kann man mit etwas Glück Mauereidechsen beobachten. Die naturkundliche&hellip;
END:VEVENT
END:VCALENDAR