BEGIN:VCALENDAR
VERSION:2.0
METHOD:PUBLISH
PRODID:-//Accessible Web Design//My Calendar//http://www.joedolson.com//v//EN';
BEGIN:VEVENT
UID:103-53
LOCATION:Parkplatz Perlenbachmühle, Mühlenweg(K25) Höfen, D-52156 Monschau
SUMMARY:Narzissenwanderung durch das Fuhrtsbachtal
DTSTAMP:20220417T100000
ORGANIZER;CN=webmaster:MAILTO:info@aves-ostkantone.be
DTSTART:20220417T100000
DTEND:20220417T133000
CATEGORIES:Naturkundliche Exkursion
URL;VALUE=URI:https://www.aves-ostkantone.be/cms/mc-events/narzissenwanderung-durch-das-fuhrtsbachtal/?mc_id=103
DESCRIPTION:Wo einst im Mittelalter Flächen gerodet und als Heuwiesen genutzt wurden, können heute Wanderer im Frühling in ein goldgelbes Meer aus Narzissen eintauchen. Doch dies war nicht immer so. Unter großem Aufwand wurden viele Täler der Eifel, in einer belgisch-deutschen Gemeinschaftsaktion mit Unterstützung von Forstämtern, Naturschutzorganisationen und auch Behörden, wieder in ihren ursprünglichen Zustand gebracht.&hellip;
END:VEVENT
END:VCALENDAR