BEGIN:VCALENDAR
VERSION:2.0
METHOD:PUBLISH
PRODID:-//Accessible Web Design//My Calendar//http://www.joedolson.com//v//EN';
BEGIN:VEVENT
UID:102-52
LOCATION:Kirche in Krewinkel (bei Manderfeld), 4760 Büllingen
SUMMARY:An den Quellgebieten der Our
DTSTAMP:20220417T093000
ORGANIZER;CN=webmaster:MAILTO:info@aves-ostkantone.be
DTSTART:20220417T093000
DTEND:20220417T153000
CATEGORIES:Ornithologische Exkursion
URL;VALUE=URI:https://www.aves-ostkantone.be/cms/mc-events/an-den-quellgebieten-der-our/?mc_id=102
DESCRIPTION:Quellbereiche von Fließgewässern werden immer wieder gerne von unseren gefiederten Freunden aufgesucht. Das trifft in besonderem Maße für die Umgebung von Krewinkel zu; hier ist unter anderem der Rotmilan zu Hause. Norbert Paquay führt Sie unter fachkundiger Leitung am 17. April 2022 von 09:30 bis 15:30 durch das Quellgebiet der Our. Treffpunkt ist die Kirche&hellip;
END:VEVENT
END:VCALENDAR