BEGIN:VCALENDAR
VERSION:2.0
METHOD:PUBLISH
PRODID:-//Accessible Web Design//My Calendar//http://www.joedolson.com//v//EN';
BEGIN:VEVENT
UID:101-49
LOCATION:Ehemaliges Zollamt Steinebrück, 4780 St. Vith
SUMMARY:Vögel an Bach und Waldrand
DTSTAMP:20220320T090000
ORGANIZER;CN=webmaster:MAILTO:info@aves-ostkantone.be
DTSTART:20220320T090000
DTEND:20220320T150000
CATEGORIES:Ornithologische Exkursion
URL;VALUE=URI:https://www.aves-ostkantone.be/cms/mc-events/voegel-an-bach-und-waldrand/?mc_id=101
DESCRIPTION:Wasser hat eine große Anziehungskraft auf Vögel. Hier finden sie Nahrung und Schutz. Insbesondere die Our hat in diesem Zusammenhang einiges aufzuweisen. Sie zieht ihren Lauf an Waldgebieten vorbei und hinterlässt eine abwechslungsreiche Landschaft, die aus ornithologischer Sicht sehr spannend ist. Die sechsstündige Wanderung findet am 20. März 2022 statt. Treffpunkt ist das ehemalige Zollhaus&hellip;
END:VEVENT
END:VCALENDAR