BEGIN:VCALENDAR
VERSION:2.0
METHOD:PUBLISH
PRODID:-//Accessible Web Design//My Calendar//http://www.joedolson.com//v//EN';
BEGIN:VEVENT
UID:100-48
LOCATION:Walleroder Brücke (Straße Amel-St. Vith), 4780 St. Vith
SUMMARY:Sänger in Wald und Flur
DTSTAMP:20220313T090000
ORGANIZER;CN=webmaster:MAILTO:info@aves-ostkantone.be
DTSTART:20220313T090000
DTEND:20220313T150000
CATEGORIES:Ornithologische Exkursion
URL;VALUE=URI:https://www.aves-ostkantone.be/cms/mc-events/saenger-in-wald-und-flur/?mc_id=100
DESCRIPTION:Schwerpunkt der ca. 10 km langen Wanderung entlang der Naturschutzgebiete der Emmels bilden die Durchzügler, die man jetzt, Mitte März, beobachten kann. Treffpunkt der sechsstündigen Wanderung ist die Walleroder Brücke (Straße Amel-St. Vith) am 13. März 2022 um 9h00. Mitzubringen sind neben festem Schuhwerk eine Stärkung für mittags und ein Fernglas. Bitte haben Sie Verständnis&hellip;
END:VEVENT
END:VCALENDAR